BEGIN:VCALENDAR
VERSION:2.0
PRODID:-//cakeartsa.com - ECPv6.15.20//NONSGML v1.0//EN
CALSCALE:GREGORIAN
METHOD:PUBLISH
X-ORIGINAL-URL:https://cakeartsa.com
X-WR-CALDESC:Events for cakeartsa.com
REFRESH-INTERVAL;VALUE=DURATION:PT1H
X-Robots-Tag:noindex
X-PUBLISHED-TTL:PT1H
BEGIN:VTIMEZONE
TZID:UTC
BEGIN:STANDARD
TZOFFSETFROM:+0000
TZOFFSETTO:+0000
TZNAME:UTC
DTSTART:20220101T000000
END:STANDARD
END:VTIMEZONE
BEGIN:VEVENT
DTSTART;TZID=UTC:20231202T150000
DTEND;TZID=UTC:20231202T190000
DTSTAMP:20260423T100353
CREATED:20231026T204257Z
LAST-MODIFIED:20231102T200259Z
UID:15814-1701529200-1701543600@cakeartsa.com
SUMMARY:Painting with a CAKE Twist
DESCRIPTION:Enjoy painting but want more! In this class we will be taking cakes and turning them into a canvas! You can choose between vanilla\, chocolate\, or strawberry cake We will then teach you how to use a variety of mediums to create a 100% edible art piece! This class requires a little bit of painting skill so kindly ask for no children under the age of 10.
URL:https://cakeartsa.com/event/painting-with-a-cake-twist/
LOCATION:CakeArt\, 18402 US Highway 281 North\, San Antonio\, 78259\, United States
ATTACH;FMTTYPE=image/jpeg:https://cakeartsa.com/wp-content/uploads/2023/10/twist-3.jpg
END:VEVENT
END:VCALENDAR