BEGIN:VCALENDAR
VERSION:2.0
PRODID:-//cakeartsa.com - ECPv6.15.20//NONSGML v1.0//EN
CALSCALE:GREGORIAN
METHOD:PUBLISH
X-WR-CALNAME:cakeartsa.com
X-ORIGINAL-URL:https://cakeartsa.com
X-WR-CALDESC:Events for cakeartsa.com
REFRESH-INTERVAL;VALUE=DURATION:PT1H
X-Robots-Tag:noindex
X-PUBLISHED-TTL:PT1H
BEGIN:VTIMEZONE
TZID:UTC
BEGIN:STANDARD
TZOFFSETFROM:+0000
TZOFFSETTO:+0000
TZNAME:UTC
DTSTART:20220101T000000
END:STANDARD
END:VTIMEZONE
BEGIN:VEVENT
DTSTART;TZID=UTC:20231210T100000
DTEND;TZID=UTC:20231210T140000
DTSTAMP:20260423T130619
CREATED:20230914T223045Z
LAST-MODIFIED:20231109T085302Z
UID:15765-1702202400-1702216800@cakeartsa.com
SUMMARY:Buche de Noel (Yule Log)
DESCRIPTION:This classic Christmas cake is a traditional dessert filled with delicious chocolate mousse and a spongy white cake. It makes a great dessert centerpiece! As the cakes are being prepared we will make the fondant accents to top off the cake including mushrooms\, and poinsettias. Once the cakes are ready to be assembled we will guide you on unrolling\, filling and rolling your sponge cake back up. Then the cake will be iced in a deliciously rich ganache (made in house) and topped with the decorations and powdered sugar.
URL:https://cakeartsa.com/event/buche-de-noel-yule-log/
LOCATION:CakeArt\, 18402 US Highway 281 North\, San Antonio\, 78259\, United States
ATTACH;FMTTYPE=image/jpeg:https://cakeartsa.com/wp-content/uploads/2023/08/yule-log.jpeg
END:VEVENT
END:VCALENDAR