BEGIN:VCALENDAR
VERSION:2.0
PRODID:-//cakeartsa.com - ECPv6.15.20//NONSGML v1.0//EN
CALSCALE:GREGORIAN
METHOD:PUBLISH
X-WR-CALNAME:cakeartsa.com
X-ORIGINAL-URL:https://cakeartsa.com
X-WR-CALDESC:Events for cakeartsa.com
REFRESH-INTERVAL;VALUE=DURATION:PT1H
X-Robots-Tag:noindex
X-PUBLISHED-TTL:PT1H
BEGIN:VTIMEZONE
TZID:UTC
BEGIN:STANDARD
TZOFFSETFROM:+0000
TZOFFSETTO:+0000
TZNAME:UTC
DTSTART:20220101T000000
END:STANDARD
END:VTIMEZONE
BEGIN:VEVENT
DTSTART;TZID=UTC:20231222T100000
DTEND;TZID=UTC:20231222T140000
DTSTAMP:20260423T130812
CREATED:20231102T210620Z
LAST-MODIFIED:20231211T091926Z
UID:15830-1703239200-1703253600@cakeartsa.com
SUMMARY:Gourmet Cocoa Bombs
DESCRIPTION:In this chocolaty fun class we will teach you the difference between all the different types of cocoas and chocolates. Each participant will create 8 different types of cocoa bombs in various types of chocolates and flavors. You will also get to create your own cocoa and sprinkle mix to go into each cocoa bomb. Once the cocoa bombs are put together Chef Del Angel will guide you into creating the perfect unique decor on the outside to make them look fun and festive!
URL:https://cakeartsa.com/event/gourmet-cocoa-bombs/
LOCATION:CakeArt\, 18402 US Highway 281 North\, San Antonio\, 78259\, United States
ATTACH;FMTTYPE=image/jpeg:https://cakeartsa.com/wp-content/uploads/2023/11/cocoa-bombs.jpeg
END:VEVENT
BEGIN:VEVENT
DTSTART;TZID=UTC:20231222T160000
DTEND;TZID=UTC:20231222T200000
DTSTAMP:20260423T130812
CREATED:20231109T085209Z
LAST-MODIFIED:20231122T001750Z
UID:15836-1703260800-1703275200@cakeartsa.com
SUMMARY:Rudolph the Reindeer
DESCRIPTION:What a perfect way to celebrate the Christmas holiday than by creating this cute reindeer tangled in some holiday lights! This gravity defying cake class is open for any level of decorator! Chef Del Angel will teach you correct way to create the structure to hold the weight of the oversized reindeer head. From novice to expert this is a class you don’t want to miss!
URL:https://cakeartsa.com/event/rudolph-the-reindeer/
LOCATION:CakeArt\, 18402 US Highway 281 North\, San Antonio\, 78259\, United States
ATTACH;FMTTYPE=image/jpeg:https://cakeartsa.com/wp-content/uploads/2023/08/reindeer-correct.jpeg
END:VEVENT
BEGIN:VEVENT
DTSTART;TZID=UTC:20231222T160000
DTEND;TZID=UTC:20231222T200000
DTSTAMP:20260423T130812
CREATED:20231211T091749Z
LAST-MODIFIED:20231211T091749Z
UID:15862-1703260800-1703275200@cakeartsa.com
SUMMARY:Holiday Cookies
DESCRIPTION:Come learn the holiday favorites in this cookie class! Make a delicious platter of everyones favorite bite sized cookies especially during the holidays! In this class we will be demonstrating how to make\, pecan wedding cookies (snowballs)\, pan de polvo\, spritz\, pinwheels\, raspberry liner\, and coconut macaroons. Each participant will make make 1 dessert tray and receive a copy of all the recipes.
URL:https://cakeartsa.com/event/holiday-cookies/
LOCATION:CakeArt\, 18402 US Highway 281 North\, San Antonio\, 78259\, United States
ATTACH;FMTTYPE=image/jpeg:https://cakeartsa.com/wp-content/uploads/2023/10/holiday-cookies.jpeg
END:VEVENT
END:VCALENDAR